BEGIN:VCALENDAR
VERSION:2.0
PRODID:-//Christian Fellowship School - Columbia, MO - ECPv6.15.20//NONSGML v1.0//EN
CALSCALE:GREGORIAN
METHOD:PUBLISH
X-WR-CALNAME:Christian Fellowship School - Columbia, MO
X-ORIGINAL-URL:https://cfsknights.org
X-WR-CALDESC:Events for Christian Fellowship School - Columbia, MO
REFRESH-INTERVAL;VALUE=DURATION:PT1H
X-Robots-Tag:noindex
X-PUBLISHED-TTL:PT1H
BEGIN:VTIMEZONE
TZID:America/Chicago
BEGIN:DAYLIGHT
TZOFFSETFROM:-0600
TZOFFSETTO:-0500
TZNAME:CDT
DTSTART:20240310T080000
END:DAYLIGHT
BEGIN:STANDARD
TZOFFSETFROM:-0500
TZOFFSETTO:-0600
TZNAME:CST
DTSTART:20241103T070000
END:STANDARD
BEGIN:DAYLIGHT
TZOFFSETFROM:-0600
TZOFFSETTO:-0500
TZNAME:CDT
DTSTART:20250309T080000
END:DAYLIGHT
BEGIN:STANDARD
TZOFFSETFROM:-0500
TZOFFSETTO:-0600
TZNAME:CST
DTSTART:20251102T070000
END:STANDARD
BEGIN:DAYLIGHT
TZOFFSETFROM:-0600
TZOFFSETTO:-0500
TZNAME:CDT
DTSTART:20260308T080000
END:DAYLIGHT
BEGIN:STANDARD
TZOFFSETFROM:-0500
TZOFFSETTO:-0600
TZNAME:CST
DTSTART:20261101T070000
END:STANDARD
END:VTIMEZONE
BEGIN:VEVENT
DTSTART;TZID=America/Chicago:20251117T180000
DTEND;TZID=America/Chicago:20251117T190000
DTSTAMP:20260421T130027
CREATED:20251118T195749Z
LAST-MODIFIED:20251118T195749Z
UID:7688-1763402400-1763406000@cfsknights.org
SUMMARY:CFS Knights vs. West Middle School – 7th A at Columbia\, MO 6:00PM — Mon\, Nov 17
DESCRIPTION:
URL:https://cfsknights.org/event/cfs-knights-vs-west-middle-school-7th-a-at-columbia-mo-600pm-mon-nov-17/
LOCATION:West Middle School\, 401 Clinkscales Rd #1123\, Columbia\, MO\, 65203
CATEGORIES:Basketball,MS Girls Basketball
END:VEVENT
BEGIN:VEVENT
DTSTART;TZID=America/Chicago:20251117T180000
DTEND;TZID=America/Chicago:20251117T210000
DTSTAMP:20260421T130027
CREATED:20251118T193743Z
LAST-MODIFIED:20251118T193743Z
UID:7663-1763402400-1763413200@cfsknights.org
SUMMARY:CFS Knights vs. West Middle School – 7th A & B at CFS (HOME) 6:00PM / 7:00PM — Mon\, Nov 17
DESCRIPTION:
URL:https://cfsknights.org/event/cfs-knights-vs-west-middle-school-7th-a-b-at-cfs-home-600pm-700pm-mon-nov-17/
LOCATION:Christian Fellowship School\, 4600 Christian Fellowship Rd\, Columbia\, 65203\, United States
CATEGORIES:Basketball,MS Boys Basketball
END:VEVENT
BEGIN:VEVENT
DTSTART;TZID=America/Chicago:20251121T180000
DTEND;TZID=America/Chicago:20251121T190000
DTSTAMP:20260421T130027
CREATED:20251118T195923Z
LAST-MODIFIED:20251118T195923Z
UID:7691-1763748000-1763751600@cfsknights.org
SUMMARY:CFS Knights vs. CCA at Columbia\, MO 6:00PM — Fri\, Nov 21
DESCRIPTION:
URL:https://cfsknights.org/event/cfs-knights-vs-cca-at-columbia-mo-600pm-fri-nov-21/
LOCATION:Christian Chapel Academy\, 3300 Providence Rd.\, Columbia\, MO\, 65203\, United States
CATEGORIES:Basketball,MS Girls Basketball
END:VEVENT
BEGIN:VEVENT
DTSTART;TZID=America/Chicago:20251121T180000
DTEND;TZID=America/Chicago:20251121T200000
DTSTAMP:20260421T130027
CREATED:20251205T195343Z
LAST-MODIFIED:20251205T195343Z
UID:7798-1763748000-1763755200@cfsknights.org
SUMMARY:CFS Varsity Girls Knights vs. Bunceton at Bunceton\, Bunceton\, MO  6:00 PM
DESCRIPTION:
URL:https://cfsknights.org/event/cfs-varsity-girls-knights-vs-bunceton-at-bunceton-bunceton-mo-600-pm/
LOCATION:Bunceton\, Bunceton\, MO
CATEGORIES:Basketball,High School
END:VEVENT
BEGIN:VEVENT
DTSTART;TZID=America/Chicago:20251121T190000
DTEND;TZID=America/Chicago:20251121T200000
DTSTAMP:20260421T130027
CREATED:20251118T193933Z
LAST-MODIFIED:20251118T193933Z
UID:7665-1763751600-1763755200@cfsknights.org
SUMMARY:CFS Knights vs. CCA at CCA Columbia\, MO 7:00PM — Fri\, Nov 21
DESCRIPTION:
URL:https://cfsknights.org/event/cfs-knights-vs-cca-at-cca-columbia-mo-700pm-fri-nov-21/
LOCATION:Christian Chapel Academy\, 3300 Providence Rd.\, Columbia\, MO\, 65203\, United States
CATEGORIES:Basketball,MS Boys Basketball
END:VEVENT
BEGIN:VEVENT
DTSTART;TZID=America/Chicago:20251121T193000
DTEND;TZID=America/Chicago:20251121T203000
DTSTAMP:20260421T130027
CREATED:20251118T201800Z
LAST-MODIFIED:20251118T202407Z
UID:7711-1763753400-1763757000@cfsknights.org
SUMMARY:CFS Varsity Boys Knights vs. Bunceton at Bunceton\, MO 7:30PM — Fri\, Nov 21
DESCRIPTION:
URL:https://cfsknights.org/event/cfs-knights-vs-bunceton-at-bunceton-mo-730pm-fri-nov-21/
LOCATION:Bunceton\, Bunceton\, MO
CATEGORIES:Basketball,V Boys Basketball
END:VEVENT
BEGIN:VEVENT
DTSTART;TZID=America/Chicago:20251122T170000
DTEND;TZID=America/Chicago:20251122T180000
DTSTAMP:20260421T130027
CREATED:20251118T202508Z
LAST-MODIFIED:20251118T202508Z
UID:7715-1763830800-1763834400@cfsknights.org
SUMMARY:CFS Varsity Boys Knights vs. Community R-6 (Gary Filbert Classic) at Mexico\, MO 5:00PM — Sat\, Nov 22
DESCRIPTION:
URL:https://cfsknights.org/event/cfs-varsity-boys-knights-vs-community-r-6-gary-filbert-classic-at-mexico-mo-500pm-sat-nov-22/
LOCATION:Mexico\, MO
CATEGORIES:Basketball,V Boys Basketball
END:VEVENT
BEGIN:VEVENT
DTSTART;TZID=America/Chicago:20251124T173000
DTEND;TZID=America/Chicago:20251124T183000
DTSTAMP:20260421T130027
CREATED:20251118T200013Z
LAST-MODIFIED:20251118T200013Z
UID:7693-1764005400-1764009000@cfsknights.org
SUMMARY:CFS Knights vs. St. Peter Catholic at Marshall\, MO 5:30PM — Mon\, Nov 24
DESCRIPTION:
URL:https://cfsknights.org/event/cfs-knights-vs-st-peter-catholic-at-marshall-mo-530pm-mon-nov-24/
LOCATION:St. Peter Catholic\, 1801 S Miami Ave\, Marshall\, MO\, 65340\, United States
CATEGORIES:Basketball,MS Girls Basketball
END:VEVENT
BEGIN:VEVENT
DTSTART;TZID=America/Chicago:20251124T183000
DTEND;TZID=America/Chicago:20251124T193000
DTSTAMP:20260421T130027
CREATED:20251118T194132Z
LAST-MODIFIED:20251118T194132Z
UID:7667-1764009000-1764012600@cfsknights.org
SUMMARY:CFS Knights vs. St. Peter Catholic at Marshall\, MO 6:30PM — Mon\, Nov 24
DESCRIPTION:
URL:https://cfsknights.org/event/cfs-knights-vs-st-peter-catholic-at-marshall-mo-630pm-mon-nov-24/
LOCATION:St. Peter Catholic\, 1801 S Miami Ave\, Marshall\, MO\, 65340\, United States
CATEGORIES:Basketball,MS Boys Basketball
END:VEVENT
BEGIN:VEVENT
DTSTART;TZID=America/Chicago:20251125T080000
DTEND;TZID=America/Chicago:20251125T170000
DTSTAMP:20260421T130027
CREATED:20251118T202545Z
LAST-MODIFIED:20251118T202545Z
UID:7717-1764057600-1764090000@cfsknights.org
SUMMARY:CFS Varsity Boys Knights vs. Sacred Heart at CFS (HOME) 7:45PM — Tue\, Nov 25
DESCRIPTION:
URL:https://cfsknights.org/event/cfs-varsity-boys-knights-vs-sacred-heart-at-cfs-home-745pm-tue-nov-25/
LOCATION:Christian Fellowship School\, 4600 Christian Fellowship Rd\, Columbia\, 65203\, United States
CATEGORIES:Basketball,V Boys Basketball
END:VEVENT
END:VCALENDAR