BEGIN:VCALENDAR
VERSION:2.0
PRODID:-//Christian Fellowship School - Columbia, MO - ECPv6.15.20//NONSGML v1.0//EN
CALSCALE:GREGORIAN
METHOD:PUBLISH
X-WR-CALNAME:Christian Fellowship School - Columbia, MO
X-ORIGINAL-URL:https://cfsknights.org
X-WR-CALDESC:Events for Christian Fellowship School - Columbia, MO
REFRESH-INTERVAL;VALUE=DURATION:PT1H
X-Robots-Tag:noindex
X-PUBLISHED-TTL:PT1H
BEGIN:VTIMEZONE
TZID:America/Chicago
BEGIN:DAYLIGHT
TZOFFSETFROM:-0600
TZOFFSETTO:-0500
TZNAME:CDT
DTSTART:20240310T080000
END:DAYLIGHT
BEGIN:STANDARD
TZOFFSETFROM:-0500
TZOFFSETTO:-0600
TZNAME:CST
DTSTART:20241103T070000
END:STANDARD
BEGIN:DAYLIGHT
TZOFFSETFROM:-0600
TZOFFSETTO:-0500
TZNAME:CDT
DTSTART:20250309T080000
END:DAYLIGHT
BEGIN:STANDARD
TZOFFSETFROM:-0500
TZOFFSETTO:-0600
TZNAME:CST
DTSTART:20251102T070000
END:STANDARD
BEGIN:DAYLIGHT
TZOFFSETFROM:-0600
TZOFFSETTO:-0500
TZNAME:CDT
DTSTART:20260308T080000
END:DAYLIGHT
BEGIN:STANDARD
TZOFFSETFROM:-0500
TZOFFSETTO:-0600
TZNAME:CST
DTSTART:20261101T070000
END:STANDARD
END:VTIMEZONE
BEGIN:VEVENT
DTSTART;TZID=America/Chicago:20251201T193000
DTEND;TZID=America/Chicago:20251201T203000
DTSTAMP:20260421T143647
CREATED:20251118T202800Z
LAST-MODIFIED:20251118T202800Z
UID:7719-1764617400-1764621000@cfsknights.org
SUMMARY:CFS Varsity Boys Knights vs. Monroe City at Monroe City\, MO 7:30PM — Mon\, Dec 1
DESCRIPTION:
URL:https://cfsknights.org/event/cfs-varsity-boys-knights-vs-monroe-city-at-monroe-city-mo-730pm-mon-dec-1/
LOCATION:Monroe City\, U. S. 24 &\, US-36 BUS\, Monroe City\, MO\, 63456
CATEGORIES:Basketball,V Boys Basketball
END:VEVENT
BEGIN:VEVENT
DTSTART;TZID=America/Chicago:20251204T181500
DTEND;TZID=America/Chicago:20251204T193000
DTSTAMP:20260421T143647
CREATED:20251118T203754Z
LAST-MODIFIED:20251118T203754Z
UID:7722-1764872100-1764876600@cfsknights.org
SUMMARY:CFS Varsity Boys Knights vs. Liberty Christian at CFS (HOME) 6:15PM — Thu\, Dec 4
DESCRIPTION:
URL:https://cfsknights.org/event/cfs-varsity-boys-knights-vs-liberty-christian-at-cfs-home-615pm-thu-dec-4/
LOCATION:Christian Fellowship School\, 4600 Christian Fellowship Rd\, Columbia\, 65203\, United States
CATEGORIES:Basketball,V Boys Basketball
END:VEVENT
BEGIN:VEVENT
DTSTART;TZID=America/Chicago:20251205T180000
DTEND;TZID=America/Chicago:20251205T190000
DTSTAMP:20260421T143647
CREATED:20251118T200111Z
LAST-MODIFIED:20251118T200111Z
UID:7695-1764957600-1764961200@cfsknights.org
SUMMARY:CFS Knights vs. CIS at Columbia\, MO 6:00PM — Fri\, Dec 5
DESCRIPTION:
URL:https://cfsknights.org/event/cfs-knights-vs-cis-at-columbia-mo-600pm-fri-dec-5/
LOCATION:Columbia Independent School\, 1801 N. Stadium Blvd.\, Columbia\, MO\, 65202\, United States
CATEGORIES:Basketball,MS Girls Basketball
END:VEVENT
BEGIN:VEVENT
DTSTART;TZID=America/Chicago:20251205T190000
DTEND;TZID=America/Chicago:20251205T210000
DTSTAMP:20260421T143647
CREATED:20251118T194305Z
LAST-MODIFIED:20251118T194305Z
UID:7669-1764961200-1764968400@cfsknights.org
SUMMARY:CFS Knights vs. CIS at CIS Columbia\, MO 7:00PM — Fri\, Dec 5
DESCRIPTION:
URL:https://cfsknights.org/event/cfs-knights-vs-cis-at-cis-columbia-mo-700pm-fri-dec-5/
LOCATION:Columbia Independent School\, 1801 N. Stadium Blvd.\, Columbia\, MO\, 65202\, United States
CATEGORIES:Basketball,MS Boys Basketball
END:VEVENT
BEGIN:VEVENT
DTSTART;TZID=America/Chicago:20251205T193000
DTEND;TZID=America/Chicago:20251205T213000
DTSTAMP:20260421T143647
CREATED:20251205T152408Z
LAST-MODIFIED:20251205T152408Z
UID:7750-1764963000-1764970200@cfsknights.org
SUMMARY:CFS Varsity Boys Knights vs. Northern MO Knights at CFS (HOME) 7:30PM — Fri\, Jan 23 (Courtwarming)
DESCRIPTION:
URL:https://cfsknights.org/event/cfs-varsity-boys-knights-vs-northern-mo-knights-at-cfs-home-730pm-fri-jan-23-courtwarming/
LOCATION:Christian Fellowship School\, 4600 Christian Fellowship Rd\, Columbia\, 65203\, United States
CATEGORIES:Basketball,V Boys Basketball
END:VEVENT
BEGIN:VEVENT
DTSTART;TZID=America/Chicago:20251208T180000
DTEND;TZID=America/Chicago:20251208T190000
DTSTAMP:20260421T143647
CREATED:20251118T200212Z
LAST-MODIFIED:20251210T181803Z
UID:7697-1765216800-1765220400@cfsknights.org
SUMMARY:Canceled - CFS Knights vs. Trinity Lutheran at Jefferson City\, MO 6:00PM — Mon\, Dec 8
DESCRIPTION:
URL:https://cfsknights.org/event/cfs-knights-vs-trinity-lutheran-at-jefferson-city-mo-600pm-mon-dec-8/
LOCATION:Trinity Lutheran School\, 812 Stadium Blvd.\, Jefferson City\, MO\, 65109
CATEGORIES:Basketball,MS Girls Basketball
END:VEVENT
BEGIN:VEVENT
DTSTART;TZID=America/Chicago:20251208T190000
DTEND;TZID=America/Chicago:20251208T200000
DTSTAMP:20260421T143647
CREATED:20251118T194407Z
LAST-MODIFIED:20251118T194407Z
UID:7672-1765220400-1765224000@cfsknights.org
SUMMARY:CFS Knights vs. Trinity Lutheran at Jefferson City\, MO 7:00PM — Mon\, Dec 8
DESCRIPTION:
URL:https://cfsknights.org/event/cfs-knights-vs-trinity-lutheran-at-jefferson-city-mo-700pm-mon-dec-8/
LOCATION:Trinity Lutheran School\, 812 Stadium Blvd.\, Jefferson City\, MO\, 65109
CATEGORIES:Basketball,MS Boys Basketball
END:VEVENT
BEGIN:VEVENT
DTSTART;TZID=America/Chicago:20251211T170000
DTEND;TZID=America/Chicago:20251211T190000
DTSTAMP:20260421T143647
CREATED:20251205T154305Z
LAST-MODIFIED:20251205T154305Z
UID:7764-1765472400-1765479600@cfsknights.org
SUMMARY:CFS JV Boys Knights vs. Calvary Lutheran at CFS (HOME) 5:00PM — Thu\, Dec 11
DESCRIPTION:
URL:https://cfsknights.org/event/cfs-jv-boys-knights-vs-calvary-lutheran-at-cfs-home-500pm-thu-dec-11/
LOCATION:Christian Fellowship School\, 4600 Christian Fellowship Rd\, Columbia\, 65203\, United States
CATEGORIES:Basketball,JV Boys Basketball
END:VEVENT
BEGIN:VEVENT
DTSTART;TZID=America/Chicago:20251211T181500
DTEND;TZID=America/Chicago:20251211T211500
DTSTAMP:20260421T143647
CREATED:20251205T195619Z
LAST-MODIFIED:20251205T195619Z
UID:7800-1765476900-1765487700@cfsknights.org
SUMMARY:CFS Varsity Girls Knights vs. Calvary Lutheran at HOME 6:15 PM
DESCRIPTION:
URL:https://cfsknights.org/event/cfs-varsity-girls-knights-vs-calvary-lutheran-at-home-615-pm/
LOCATION:Christian Fellowship School\, 4600 Christian Fellowship Rd\, Columbia\, 65203\, United States
CATEGORIES:Basketball,High School
END:VEVENT
BEGIN:VEVENT
DTSTART;TZID=America/Chicago:20251212T173000
DTEND;TZID=America/Chicago:20251212T183000
DTSTAMP:20260421T143647
CREATED:20251118T200602Z
LAST-MODIFIED:20251118T200602Z
UID:7699-1765560600-1765564200@cfsknights.org
SUMMARY:CFS Knights vs. Centralia at Centralia\, MO 5:30PM — Fri\, Dec 12
DESCRIPTION:
URL:https://cfsknights.org/event/cfs-knights-vs-centralia-at-centralia-mo-530pm-fri-dec-12/
LOCATION:Centralia High School
CATEGORIES:Basketball,MS Girls Basketball
END:VEVENT
BEGIN:VEVENT
DTSTART;TZID=America/Chicago:20251212T180000
DTEND;TZID=America/Chicago:20251212T200000
DTSTAMP:20260421T143647
CREATED:20251205T154411Z
LAST-MODIFIED:20251205T154411Z
UID:7766-1765562400-1765569600@cfsknights.org
SUMMARY:CFS JV Boys Knights vs. Rock Bridge Freshman at CFS (HOME) 6:00PM — Fri\, Dec 12
DESCRIPTION:
URL:https://cfsknights.org/event/cfs-jv-boys-knights-vs-rock-bridge-freshman-at-cfs-home-600pm-fri-dec-12/
LOCATION:Christian Fellowship School\, 4600 Christian Fellowship Rd\, Columbia\, 65203\, United States
CATEGORIES:Basketball,JV Boys Basketball
END:VEVENT
BEGIN:VEVENT
DTSTART;TZID=America/Chicago:20251212T183000
DTEND;TZID=America/Chicago:20251212T200000
DTSTAMP:20260421T143647
CREATED:20251118T194539Z
LAST-MODIFIED:20251118T194539Z
UID:7674-1765564200-1765569600@cfsknights.org
SUMMARY:CFS Knights vs. Centralia at Centralia\, MO 6:30PM — Fri\, Dec 12
DESCRIPTION:
URL:https://cfsknights.org/event/cfs-knights-vs-centralia-at-centralia-mo-630pm-fri-dec-12/
LOCATION:Centralia High School
CATEGORIES:Basketball,MS Boys Basketball
END:VEVENT
BEGIN:VEVENT
DTSTART;TZID=America/Chicago:20251212T191500
DTEND;TZID=America/Chicago:20251212T203000
DTSTAMP:20260421T143647
CREATED:20251118T203907Z
LAST-MODIFIED:20251118T203907Z
UID:7724-1765566900-1765571400@cfsknights.org
SUMMARY:CFS Varsity Boys Knights vs. Rock Bridge JV at CFS (HOME) 7:15PM — Fri\, Dec 12
DESCRIPTION:
URL:https://cfsknights.org/event/cfs-varsity-boys-knights-vs-rock-bridge-jv-at-cfs-home-715pm-fri-dec-12/
LOCATION:Christian Fellowship School\, 4600 Christian Fellowship Rd\, Columbia\, 65203\, United States
CATEGORIES:Basketball,V Boys Basketball
END:VEVENT
BEGIN:VEVENT
DTSTART;TZID=America/Chicago:20251215T180000
DTEND;TZID=America/Chicago:20251215T200000
DTSTAMP:20260421T143647
CREATED:20251118T200738Z
LAST-MODIFIED:20251118T200738Z
UID:7701-1765821600-1765828800@cfsknights.org
SUMMARY:CFS Knights vs. CCA at CFS (HOME) 6:00PM — Mon\, Dec 15
DESCRIPTION:
URL:https://cfsknights.org/event/cfs-knights-vs-cca-at-cfs-home-600pm-mon-dec-15/
LOCATION:Christian Fellowship School\, 4600 Christian Fellowship Rd\, Columbia\, 65203\, United States
CATEGORIES:Basketball,MS Girls Basketball
END:VEVENT
BEGIN:VEVENT
DTSTART;TZID=America/Chicago:20251215T190000
DTEND;TZID=America/Chicago:20251215T210000
DTSTAMP:20260421T143647
CREATED:20251118T194636Z
LAST-MODIFIED:20251118T194636Z
UID:7676-1765825200-1765832400@cfsknights.org
SUMMARY:CFS Knights vs. CCA at CFS (HOME) 7:00PM — Mon\, Dec 15
DESCRIPTION:
URL:https://cfsknights.org/event/cfs-knights-vs-cca-at-cfs-home-700pm-mon-dec-15/
LOCATION:Christian Fellowship School\, 4600 Christian Fellowship Rd\, Columbia\, 65203\, United States
CATEGORIES:Basketball,MS Boys Basketball
END:VEVENT
BEGIN:VEVENT
DTSTART;TZID=America/Chicago:20251216T170000
DTEND;TZID=America/Chicago:20251216T190000
DTSTAMP:20260421T143647
CREATED:20251205T154511Z
LAST-MODIFIED:20251210T180542Z
UID:7768-1765904400-1765911600@cfsknights.org
SUMMARY:CANCELED - CFS JV Boys Knights vs. Jamestown at Jamestown\, MO 5:00PM — Tue\, Dec 16
DESCRIPTION:
URL:https://cfsknights.org/event/cfs-jv-boys-knights-vs-jamestown-at-jamestown-mo-500pm-tue-dec-16/
LOCATION:Jamestown\, MO
CATEGORIES:Basketball,JV Boys Basketball
END:VEVENT
BEGIN:VEVENT
DTSTART;TZID=America/Chicago:20251216T180000
DTEND;TZID=America/Chicago:20251216T200000
DTSTAMP:20260421T143647
CREATED:20251205T195813Z
LAST-MODIFIED:20251210T181038Z
UID:7802-1765908000-1765915200@cfsknights.org
SUMMARY:CFS Varsity Girls Knights vs. Jamestown at Jamestown\, MO 6:00 PM
DESCRIPTION:
URL:https://cfsknights.org/event/cfs-varsity-girls-knights-vs-jamestown-at-jamestown-mo-615-pm/
LOCATION:Jamestown\, MO
CATEGORIES:Basketball,High School,V Girls Basketball
END:VEVENT
BEGIN:VEVENT
DTSTART;TZID=America/Chicago:20251216T193000
DTEND;TZID=America/Chicago:20251216T203000
DTSTAMP:20260421T143647
CREATED:20251118T204035Z
LAST-MODIFIED:20251210T180748Z
UID:7726-1765913400-1765917000@cfsknights.org
SUMMARY:CFS Varsity Boys Knights vs. Jamestown at Jamestown\, MO 7:30PM — Tue\, Dec 16
DESCRIPTION:
URL:https://cfsknights.org/event/cfs-varsity-boys-knights-vs-jamestown-at-jamestown-mo-745pm-tue-dec-16/
LOCATION:Jamestown\, MO
CATEGORIES:Basketball,V Boys Basketball
END:VEVENT
BEGIN:VEVENT
DTSTART;TZID=America/Chicago:20251218T170000
DTEND;TZID=America/Chicago:20251218T190000
DTSTAMP:20260421T143647
CREATED:20251118T200820Z
LAST-MODIFIED:20251210T183213Z
UID:7703-1766077200-1766084400@cfsknights.org
SUMMARY:CFS Knights vs. St. Paul’s Lutheran at CFS (HOME) 5:00PM — Thu\, Dec 18
DESCRIPTION:
URL:https://cfsknights.org/event/cfs-knights-vs-st-pauls-lutheran-at-cfs-home-530pm-thu-dec-18/
LOCATION:Christian Fellowship School\, 4600 Christian Fellowship Rd\, Columbia\, 65203\, United States
CATEGORIES:Basketball,MS Girls Basketball
END:VEVENT
BEGIN:VEVENT
DTSTART;TZID=America/Chicago:20251218T170000
DTEND;TZID=America/Chicago:20251218T190000
DTSTAMP:20260421T143647
CREATED:20251205T154641Z
LAST-MODIFIED:20251205T154641Z
UID:7770-1766077200-1766084400@cfsknights.org
SUMMARY:CFS JV Boys Knights vs. South Callaway at Mokane\, MO 5:00PM — Thu\, Dec 18
DESCRIPTION:
URL:https://cfsknights.org/event/cfs-jv-boys-knights-vs-south-callaway-at-mokane-mo-500pm-thu-dec-18/
LOCATION:South Callaway High School
CATEGORIES:Basketball,JV Boys Basketball
END:VEVENT
BEGIN:VEVENT
DTSTART;TZID=America/Chicago:20251218T180000
DTEND;TZID=America/Chicago:20251218T210000
DTSTAMP:20260421T143647
CREATED:20251118T194735Z
LAST-MODIFIED:20251210T183727Z
UID:7678-1766080800-1766091600@cfsknights.org
SUMMARY:CFS Knights vs. St. Paul’s Lutheran at CFS (HOME) B Team 6:00PM / A Team 7:00PM — Thu\, Dec 18
DESCRIPTION:
URL:https://cfsknights.org/event/cfs-knights-vs-st-pauls-lutheran-at-cfs-home-630pm-thu-dec-18/
LOCATION:Christian Fellowship School\, 4600 Christian Fellowship Rd\, Columbia\, 65203\, United States
CATEGORIES:Basketball,MS Boys Basketball
END:VEVENT
BEGIN:VEVENT
DTSTART;TZID=America/Chicago:20251218T181500
DTEND;TZID=America/Chicago:20251218T201500
DTSTAMP:20260421T143647
CREATED:20251205T200000Z
LAST-MODIFIED:20251205T200000Z
UID:7804-1766081700-1766088900@cfsknights.org
SUMMARY:CFS Varsity Girls Knights vs. South Callaway at Mokane\, MO  6:15 PM
DESCRIPTION:
URL:https://cfsknights.org/event/cfs-varsity-girls-knights-vs-south-callaway-at-mokane-mo-615-pm/
LOCATION:South Callaway High School
CATEGORIES:Basketball,High School,V Girls Basketball
END:VEVENT
BEGIN:VEVENT
DTSTART;TZID=America/Chicago:20251218T194500
DTEND;TZID=America/Chicago:20251218T203000
DTSTAMP:20260421T143647
CREATED:20251118T204149Z
LAST-MODIFIED:20251118T204149Z
UID:7728-1766087100-1766089800@cfsknights.org
SUMMARY:CFS Varsity Boys Knights vs. South Callaway at Mokane\, MO 7:45PM — Thu\, Dec 18
DESCRIPTION:
URL:https://cfsknights.org/event/cfs-varsity-boys-knights-vs-south-callaway-at-mokane-mo-745pm-thu-dec-18/
LOCATION:South Callaway High School
CATEGORIES:Basketball,V Boys Basketball
END:VEVENT
END:VCALENDAR