BEGIN:VCALENDAR
VERSION:2.0
PRODID:-//Christian Fellowship School - Columbia, MO - ECPv6.15.20//NONSGML v1.0//EN
CALSCALE:GREGORIAN
METHOD:PUBLISH
X-WR-CALNAME:Christian Fellowship School - Columbia, MO
X-ORIGINAL-URL:https://cfsknights.org
X-WR-CALDESC:Events for Christian Fellowship School - Columbia, MO
REFRESH-INTERVAL;VALUE=DURATION:PT1H
X-Robots-Tag:noindex
X-PUBLISHED-TTL:PT1H
BEGIN:VTIMEZONE
TZID:America/Chicago
BEGIN:DAYLIGHT
TZOFFSETFROM:-0600
TZOFFSETTO:-0500
TZNAME:CDT
DTSTART:20250309T080000
END:DAYLIGHT
BEGIN:STANDARD
TZOFFSETFROM:-0500
TZOFFSETTO:-0600
TZNAME:CST
DTSTART:20251102T070000
END:STANDARD
BEGIN:DAYLIGHT
TZOFFSETFROM:-0600
TZOFFSETTO:-0500
TZNAME:CDT
DTSTART:20260308T080000
END:DAYLIGHT
BEGIN:STANDARD
TZOFFSETFROM:-0500
TZOFFSETTO:-0600
TZNAME:CST
DTSTART:20261101T070000
END:STANDARD
BEGIN:DAYLIGHT
TZOFFSETFROM:-0600
TZOFFSETTO:-0500
TZNAME:CDT
DTSTART:20270314T080000
END:DAYLIGHT
BEGIN:STANDARD
TZOFFSETFROM:-0500
TZOFFSETTO:-0600
TZNAME:CST
DTSTART:20271107T070000
END:STANDARD
END:VTIMEZONE
BEGIN:VEVENT
DTSTART;TZID=America/Chicago:20260102T194500
DTEND;TZID=America/Chicago:20260102T203000
DTSTAMP:20260421T162021
CREATED:20251118T204434Z
LAST-MODIFIED:20251118T204434Z
UID:7730-1767383100-1767385800@cfsknights.org
SUMMARY:CFS Varsity Boys Knights vs. Tipton (Tipton Shootout) at Tipton\, MO 7:45PM — Fri\, Jan 2
DESCRIPTION:
URL:https://cfsknights.org/event/cfs-varsity-boys-knights-vs-tipton-tipton-shootout-at-tipton-mo-745pm-fri-jan-2/
LOCATION:Tipton\, 305 US-50\, Tipton\, MO\, 65081
CATEGORIES:Basketball,V Boys Basketball
END:VEVENT
BEGIN:VEVENT
DTSTART;VALUE=DATE:20260105
DTEND;VALUE=DATE:20260106
DTSTAMP:20260421T162021
CREATED:20251205T200204Z
LAST-MODIFIED:20251205T224303Z
UID:7806-1767571200-1767657599@cfsknights.org
SUMMARY:CFS Varsity Girls Knights New Franklin Tournament
DESCRIPTION:
URL:https://cfsknights.org/event/cfs-varsity-girls-knights-new-franklin-tournament/
LOCATION:New Franklin\, 412 W Broadway\,\, New Franklin\, MO\, 65274
CATEGORIES:Basketball,High School,V Girls Basketball
END:VEVENT
BEGIN:VEVENT
DTSTART;VALUE=DATE:20260105
DTEND;VALUE=DATE:20260111
DTSTAMP:20260421T162021
CREATED:20251118T204643Z
LAST-MODIFIED:20251118T204643Z
UID:7733-1767571200-1768089599@cfsknights.org
SUMMARY:CFS Varsity Boys Knights at New Franklin Tournament — TBA — Mon–Sat\, Jan 5–10
DESCRIPTION:
URL:https://cfsknights.org/event/cfs-varsity-boys-knights-at-new-franklin-tournament-tba-mon-sat-jan-5-10/
LOCATION:New Franklin\, 412 W Broadway\,\, New Franklin\, MO\, 65274
CATEGORIES:Basketball,V Boys Basketball
END:VEVENT
BEGIN:VEVENT
DTSTART;VALUE=DATE:20260105
DTEND;VALUE=DATE:20260106
DTSTAMP:20260421T162021
CREATED:20251205T200204Z
LAST-MODIFIED:20251205T224303Z
UID:7806-1767571200-1767657599@cfsknights.org
SUMMARY:CFS Varsity Girls Knights New Franklin Tournament
DESCRIPTION:
URL:https://cfsknights.org/event/cfs-varsity-girls-knights-new-franklin-tournament/
LOCATION:New Franklin\, 412 W Broadway\,\, New Franklin\, MO\, 65274
CATEGORIES:Basketball,High School,V Girls Basketball
END:VEVENT
BEGIN:VEVENT
DTSTART;TZID=America/Chicago:20260106T180000
DTEND;TZID=America/Chicago:20260106T190000
DTSTAMP:20260421T162021
CREATED:20251118T200929Z
LAST-MODIFIED:20251118T200929Z
UID:7705-1767722400-1767726000@cfsknights.org
SUMMARY:CFS Knights vs. CIS at CFS (HOME) 6:00PM — Tue\, Jan 6
DESCRIPTION:
URL:https://cfsknights.org/event/cfs-knights-vs-cis-at-cfs-home-600pm-tue-jan-6/
LOCATION:Christian Fellowship School\, 4600 Christian Fellowship Rd\, Columbia\, 65203\, United States
CATEGORIES:Basketball,MS Girls Basketball
END:VEVENT
BEGIN:VEVENT
DTSTART;TZID=America/Chicago:20260106T190000
DTEND;TZID=America/Chicago:20260106T210000
DTSTAMP:20260421T162021
CREATED:20251118T194836Z
LAST-MODIFIED:20251118T194836Z
UID:7680-1767726000-1767733200@cfsknights.org
SUMMARY:CFS Knights vs. CIS at CFS (HOME) 7:00PM — Tue\, Jan 6
DESCRIPTION:
URL:https://cfsknights.org/event/cfs-knights-vs-cis-at-cfs-home-700pm-tue-jan-6/
LOCATION:Christian Fellowship School\, 4600 Christian Fellowship Rd\, Columbia\, 65203\, United States
CATEGORIES:Basketball,MS Boys Basketball
END:VEVENT
BEGIN:VEVENT
DTSTART;VALUE=DATE:20260105
DTEND;VALUE=DATE:20260106
DTSTAMP:20260421T162021
CREATED:20251205T200204Z
LAST-MODIFIED:20251205T224303Z
UID:7806-1767571200-1767657599@cfsknights.org
SUMMARY:CFS Varsity Girls Knights New Franklin Tournament
DESCRIPTION:
URL:https://cfsknights.org/event/cfs-varsity-girls-knights-new-franklin-tournament/
LOCATION:New Franklin\, 412 W Broadway\,\, New Franklin\, MO\, 65274
CATEGORIES:Basketball,High School,V Girls Basketball
END:VEVENT
BEGIN:VEVENT
DTSTART;VALUE=DATE:20260105
DTEND;VALUE=DATE:20260106
DTSTAMP:20260421T162021
CREATED:20251205T200204Z
LAST-MODIFIED:20251205T224303Z
UID:7806-1767571200-1767657599@cfsknights.org
SUMMARY:CFS Varsity Girls Knights New Franklin Tournament
DESCRIPTION:
URL:https://cfsknights.org/event/cfs-varsity-girls-knights-new-franklin-tournament/
LOCATION:New Franklin\, 412 W Broadway\,\, New Franklin\, MO\, 65274
CATEGORIES:Basketball,High School,V Girls Basketball
END:VEVENT
BEGIN:VEVENT
DTSTART;TZID=America/Chicago:20260108T180000
DTEND;TZID=America/Chicago:20260108T190000
DTSTAMP:20260421T162021
CREATED:20251118T201025Z
LAST-MODIFIED:20251118T201025Z
UID:7707-1767895200-1767898800@cfsknights.org
SUMMARY:CFS Knights vs. OLLIS at Columbia\, MO 6:00PM — Thu\, Jan 8
DESCRIPTION:
URL:https://cfsknights.org/event/cfs-knights-vs-ollis-at-columbia-mo-600pm-thu-jan-8/
LOCATION:Our Lady of Lourdes Interparish School (OLLIS)\, 817 Bernadette Dr.\, Columbia\, MO\, 65203\, United States
CATEGORIES:Basketball,MS Girls Basketball
END:VEVENT
BEGIN:VEVENT
DTSTART;TZID=America/Chicago:20260108T190000
DTEND;TZID=America/Chicago:20260108T210000
DTSTAMP:20260421T162021
CREATED:20251118T194937Z
LAST-MODIFIED:20251118T194937Z
UID:7682-1767898800-1767906000@cfsknights.org
SUMMARY:CFS Knights vs. OLLIS at Columbia\, MO 7:00PM — Thu\, Jan 8
DESCRIPTION:
URL:https://cfsknights.org/event/cfs-knights-vs-ollis-at-columbia-mo-700pm-thu-jan-8/
LOCATION:Our Lady of Lourdes Interparish School (OLLIS)\, 817 Bernadette Dr.\, Columbia\, MO\, 65203\, United States
CATEGORIES:Basketball,MS Boys Basketball
END:VEVENT
BEGIN:VEVENT
DTSTART;VALUE=DATE:20260105
DTEND;VALUE=DATE:20260106
DTSTAMP:20260421T162021
CREATED:20251205T200204Z
LAST-MODIFIED:20251205T224303Z
UID:7806-1767571200-1767657599@cfsknights.org
SUMMARY:CFS Varsity Girls Knights New Franklin Tournament
DESCRIPTION:
URL:https://cfsknights.org/event/cfs-varsity-girls-knights-new-franklin-tournament/
LOCATION:New Franklin\, 412 W Broadway\,\, New Franklin\, MO\, 65274
CATEGORIES:Basketball,High School,V Girls Basketball
END:VEVENT
BEGIN:VEVENT
DTSTART;VALUE=DATE:20260105
DTEND;VALUE=DATE:20260106
DTSTAMP:20260421T162021
CREATED:20251205T200204Z
LAST-MODIFIED:20251205T224303Z
UID:7806-1767571200-1767657599@cfsknights.org
SUMMARY:CFS Varsity Girls Knights New Franklin Tournament
DESCRIPTION:
URL:https://cfsknights.org/event/cfs-varsity-girls-knights-new-franklin-tournament/
LOCATION:New Franklin\, 412 W Broadway\,\, New Franklin\, MO\, 65274
CATEGORIES:Basketball,High School,V Girls Basketball
END:VEVENT
BEGIN:VEVENT
DTSTART;TZID=America/Chicago:20260112T180000
DTEND;TZID=America/Chicago:20260112T210000
DTSTAMP:20260421T162021
CREATED:20251118T195120Z
LAST-MODIFIED:20251118T195120Z
UID:7684-1768240800-1768251600@cfsknights.org
SUMMARY:CFS Knights vs. Gentry Middle School – 8th A & B at CFS (HOME) 6:00PM / 7:00PM — Mon\, Jan 12
DESCRIPTION:
URL:https://cfsknights.org/event/cfs-knights-vs-gentry-middle-school-8th-a-b-at-cfs-home-600pm-700pm-mon-jan-12/
LOCATION:Christian Fellowship School\, 4600 Christian Fellowship Rd\, Columbia\, 65203\, United States
CATEGORIES:Basketball,MS Boys Basketball
END:VEVENT
BEGIN:VEVENT
DTSTART;TZID=America/Chicago:20260113T180000
DTEND;TZID=America/Chicago:20260113T200000
DTSTAMP:20260421T162021
CREATED:20251205T200332Z
LAST-MODIFIED:20251205T200332Z
UID:7809-1768327200-1768334400@cfsknights.org
SUMMARY:CFS Varsity Girls Knights vs. Rockbridge JV at HOME 6:00 PM
DESCRIPTION:
URL:https://cfsknights.org/event/cfs-varsity-girls-knights-vs-rockbridge-jv-at-home-600-pm/
LOCATION:Christian Fellowship School\, 4600 Christian Fellowship Rd\, Columbia\, 65203\, United States
CATEGORIES:Basketball,High School,V Girls Basketball
END:VEVENT
BEGIN:VEVENT
DTSTART;TZID=America/Chicago:20260113T183000
DTEND;TZID=America/Chicago:20260113T203000
DTSTAMP:20260421T162021
CREATED:20251205T154816Z
LAST-MODIFIED:20251205T154816Z
UID:7772-1768329000-1768336200@cfsknights.org
SUMMARY:CFS JV Boys Knights vs. Battle Freshman/JV at Columbia\, MO 6:30PM — Tue\, Jan 13
DESCRIPTION:
URL:https://cfsknights.org/event/cfs-jv-boys-knights-vs-battle-freshman-jv-at-columbia-mo-630pm-tue-jan-13/
LOCATION:Battle High School
CATEGORIES:Basketball,JV Boys Basketball
END:VEVENT
BEGIN:VEVENT
DTSTART;TZID=America/Chicago:20260113T200000
DTEND;TZID=America/Chicago:20260113T210000
DTSTAMP:20260421T162021
CREATED:20251118T204759Z
LAST-MODIFIED:20251118T204759Z
UID:7736-1768334400-1768338000@cfsknights.org
SUMMARY:CFS Varsity Boys Knights vs. Battle JV at Columbia\, MO 8:00PM — Tue\, Jan 13
DESCRIPTION:
URL:https://cfsknights.org/event/cfs-varsity-boys-knights-vs-battle-jv-at-columbia-mo-800pm-tue-jan-13/
LOCATION:Battle High School
CATEGORIES:Basketball,V Boys Basketball
END:VEVENT
BEGIN:VEVENT
DTSTART;TZID=America/Chicago:20260116T170000
DTEND;TZID=America/Chicago:20260116T190000
DTSTAMP:20260421T162021
CREATED:20251205T155328Z
LAST-MODIFIED:20251205T155328Z
UID:7774-1768582800-1768590000@cfsknights.org
SUMMARY:CFS JV Boys Knights vs. Wright City at CFS (HOME) 5:00PM — Fri\, Jan 16
DESCRIPTION:
URL:https://cfsknights.org/event/cfs-jv-boys-knights-vs-wright-city-at-cfs-home-500pm-fri-jan-16/
LOCATION:Christian Fellowship School\, 4600 Christian Fellowship Rd\, Columbia\, 65203\, United States
CATEGORIES:Basketball,JV Boys Basketball
END:VEVENT
BEGIN:VEVENT
DTSTART;TZID=America/Chicago:20260116T181500
DTEND;TZID=America/Chicago:20260116T201500
DTSTAMP:20260421T162021
CREATED:20251205T200515Z
LAST-MODIFIED:20251205T200515Z
UID:7811-1768587300-1768594500@cfsknights.org
SUMMARY:CFS Varsity Girls Knights vs. Wright City at HOME 6:15 PM
DESCRIPTION:
URL:https://cfsknights.org/event/cfs-varsity-girls-knights-vs-wright-city-at-home-615-pm/
LOCATION:Christian Fellowship School\, 4600 Christian Fellowship Rd\, Columbia\, 65203\, United States
CATEGORIES:Basketball,High School,V Girls Basketball
END:VEVENT
BEGIN:VEVENT
DTSTART;TZID=America/Chicago:20260116T194500
DTEND;TZID=America/Chicago:20260116T204500
DTSTAMP:20260421T162021
CREATED:20251205T152115Z
LAST-MODIFIED:20251205T152115Z
UID:7746-1768592700-1768596300@cfsknights.org
SUMMARY:CFS Varsity Boys Knights vs. Wright City at CFS (HOME) 7:45PM — Fri\, Jan 16
DESCRIPTION:
URL:https://cfsknights.org/event/cfs-varsity-boys-knights-vs-wright-city-at-cfs-home-745pm-fri-jan-16/
LOCATION:Christian Fellowship School\, 4600 Christian Fellowship Rd\, Columbia\, 65203\, United States
CATEGORIES:Basketball,V Boys Basketball
END:VEVENT
BEGIN:VEVENT
DTSTART;TZID=America/Chicago:20260117T103000
DTEND;TZID=America/Chicago:20260117T123000
DTSTAMP:20260421T162021
CREATED:20260107T174156Z
LAST-MODIFIED:20260107T174156Z
UID:7954-1768645800-1768653000@cfsknights.org
SUMMARY:MS Girls Basketball Awards and Game
DESCRIPTION:
URL:https://cfsknights.org/event/ms-girls-basketball-awards-and-game/
CATEGORIES:Basketball,Middle School,MS Girls Basketball
END:VEVENT
BEGIN:VEVENT
DTSTART;TZID=America/Chicago:20260120T170000
DTEND;TZID=America/Chicago:20260120T190000
DTSTAMP:20260421T162021
CREATED:20251205T155408Z
LAST-MODIFIED:20251205T155408Z
UID:7776-1768928400-1768935600@cfsknights.org
SUMMARY:CFS JV Boys Knights vs. Sturgeon at Sturgeon\, MO 5:00PM — Tue\, Jan 20
DESCRIPTION:
URL:https://cfsknights.org/event/cfs-jv-boys-knights-vs-sturgeon-at-sturgeon-mo-500pm-tue-jan-20/
LOCATION:Sturgeon R-V High School\, 210 West Patton Street\, Sturgeon\, Missouri\, 65284
CATEGORIES:Basketball,JV Boys Basketball
END:VEVENT
BEGIN:VEVENT
DTSTART;TZID=America/Chicago:20260120T180000
DTEND;TZID=America/Chicago:20260120T190000
DTSTAMP:20260421T162021
CREATED:20251118T201137Z
LAST-MODIFIED:20251210T182714Z
UID:7709-1768932000-1768935600@cfsknights.org
SUMMARY:Canceled - CFS Knights vs. Trinity Lutheran at CFS (HOME) 6:00PM — Tue\, Jan 20
DESCRIPTION:
URL:https://cfsknights.org/event/cfs-knights-vs-trinity-lutheran-at-cfs-home-600pm-tue-jan-20/
LOCATION:Christian Fellowship School\, 4600 Christian Fellowship Rd\, Columbia\, 65203\, United States
CATEGORIES:Basketball,MS Girls Basketball
END:VEVENT
BEGIN:VEVENT
DTSTART;TZID=America/Chicago:20260120T181500
DTEND;TZID=America/Chicago:20260120T201500
DTSTAMP:20260421T162021
CREATED:20251205T201321Z
LAST-MODIFIED:20251205T201321Z
UID:7813-1768932900-1768940100@cfsknights.org
SUMMARY:CFS Varsity Girls Knights vs. Sturgeon at Sturgeon\, MO  6:15 PM
DESCRIPTION:
URL:https://cfsknights.org/event/cfs-varsity-girls-knights-vs-sturgeon-at-sturgeon-mo-615-pm/
LOCATION:Sturgeon R-V High School\, 210 West Patton Street\, Sturgeon\, Missouri\, 65284
CATEGORIES:Basketball,High School,V Girls Basketball
END:VEVENT
BEGIN:VEVENT
DTSTART;TZID=America/Chicago:20260120T190000
DTEND;TZID=America/Chicago:20260120T210000
DTSTAMP:20260421T162021
CREATED:20251118T195212Z
LAST-MODIFIED:20251118T195212Z
UID:7686-1768935600-1768942800@cfsknights.org
SUMMARY:CFS Knights vs. Trinity Lutheran at CFS (HOME) 7:00PM — Tue\, Jan 20
DESCRIPTION:
URL:https://cfsknights.org/event/cfs-knights-vs-trinity-lutheran-at-cfs-home-700pm-tue-jan-20/
LOCATION:Christian Fellowship School\, 4600 Christian Fellowship Rd\, Columbia\, 65203\, United States
CATEGORIES:Basketball,MS Boys Basketball
END:VEVENT
BEGIN:VEVENT
DTSTART;TZID=America/Chicago:20260120T194500
DTEND;TZID=America/Chicago:20260120T204500
DTSTAMP:20260421T162021
CREATED:20251205T152241Z
LAST-MODIFIED:20251205T152241Z
UID:7748-1768938300-1768941900@cfsknights.org
SUMMARY:CFS Varsity Boys Knights vs. Sturgeon at Sturgeon\, MO 7:45PM — Tue\, Jan 20
DESCRIPTION:
URL:https://cfsknights.org/event/cfs-varsity-boys-knights-vs-sturgeon-at-sturgeon-mo-745pm-tue-jan-20/
LOCATION:Sturgeon R-V High School\, 210 West Patton Street\, Sturgeon\, Missouri\, 65284
CATEGORIES:Basketball,V Boys Basketball
END:VEVENT
BEGIN:VEVENT
DTSTART;VALUE=DATE:20260123
DTEND;VALUE=DATE:20260124
DTSTAMP:20260421T162021
CREATED:20250916T204131Z
LAST-MODIFIED:20250916T204131Z
UID:7395-1769126400-1769212799@cfsknights.org
SUMMARY:Court Warming Game and Ceremony (Time TBD)
DESCRIPTION:
URL:https://cfsknights.org/event/court-warming-game-and-ceremony-time-tbd/
LOCATION:Christian Fellowship School\, 4600 Christian Fellowship Rd\, Columbia\, 65203\, United States
CATEGORIES:Basketball,High School,JV Boys Basketball,JV Girls Basketball,V Boys Basketball,V Girls Basketball
ORGANIZER;CN="Jackie Cornell":MAILTO:cornellj@cfsknights.org
END:VEVENT
BEGIN:VEVENT
DTSTART;TZID=America/Chicago:20260123T180000
DTEND;TZID=America/Chicago:20260123T200000
DTSTAMP:20260421T162021
CREATED:20251205T201537Z
LAST-MODIFIED:20251205T222159Z
UID:7815-1769191200-1769198400@cfsknights.org
SUMMARY:CFS Varsity Girls Knights (Courtwarming) vs. Northern MO Knights at HOME  6:00 PM
DESCRIPTION:
URL:https://cfsknights.org/event/cfs-varsity-girls-knights-courtwarming-vs-northern-mo-knights-at-home-600-pm/
LOCATION:Christian Fellowship School\, 4600 Christian Fellowship Rd\, Columbia\, 65203\, United States
CATEGORIES:Basketball,High School,V Girls Basketball
END:VEVENT
BEGIN:VEVENT
DTSTART;TZID=America/Chicago:20260129T170000
DTEND;TZID=America/Chicago:20260129T190000
DTSTAMP:20260421T162021
CREATED:20251205T155537Z
LAST-MODIFIED:20251205T155537Z
UID:7778-1769706000-1769713200@cfsknights.org
SUMMARY:CFS JV Boys Knights vs. Sunnydale at CFS (HOME) 5:00PM — Thu\, Jan 29
DESCRIPTION:
URL:https://cfsknights.org/event/cfs-jv-boys-knights-vs-sunnydale-at-cfs-home-500pm-thu-jan-29/
LOCATION:Christian Fellowship School\, 4600 Christian Fellowship Rd\, Columbia\, 65203\, United States
CATEGORIES:Basketball,JV Boys Basketball
END:VEVENT
BEGIN:VEVENT
DTSTART;TZID=America/Chicago:20260129T181500
DTEND;TZID=America/Chicago:20260129T201500
DTSTAMP:20260421T162021
CREATED:20251205T201715Z
LAST-MODIFIED:20251205T201715Z
UID:7817-1769710500-1769717700@cfsknights.org
SUMMARY:CFS Varsity Girls Knights vs. Sunnydale at HOME 6:15 PM
DESCRIPTION:
URL:https://cfsknights.org/event/cfs-varsity-girls-knights-vs-sunnydale-at-home-615-pm/
LOCATION:Christian Fellowship School\, 4600 Christian Fellowship Rd\, Columbia\, 65203\, United States
CATEGORIES:Basketball,High School,V Girls Basketball
END:VEVENT
BEGIN:VEVENT
DTSTART;TZID=America/Chicago:20260129T194500
DTEND;TZID=America/Chicago:20260129T214500
DTSTAMP:20260421T162021
CREATED:20251205T152522Z
LAST-MODIFIED:20251205T152522Z
UID:7752-1769715900-1769723100@cfsknights.org
SUMMARY:CFS Varsity Boys Knights vs. Sunnydale at CFS (HOME) 7:45PM — Thu\, Jan 29
DESCRIPTION:
URL:https://cfsknights.org/event/cfs-varsity-boys-knights-vs-sunnydale-at-cfs-home-745pm-thu-jan-29/
LOCATION:Christian Fellowship School\, 4600 Christian Fellowship Rd\, Columbia\, 65203\, United States
CATEGORIES:Basketball,V Boys Basketball
END:VEVENT
BEGIN:VEVENT
DTSTART;TZID=America/Chicago:20260130T180000
DTEND;TZID=America/Chicago:20260130T200000
DTSTAMP:20260421T162021
CREATED:20251205T203536Z
LAST-MODIFIED:20251205T203536Z
UID:7819-1769796000-1769803200@cfsknights.org
SUMMARY:CFS Varsity Girls Knights vs. CIS at HOME 6:00 PM
DESCRIPTION:
URL:https://cfsknights.org/event/cfs-varsity-girls-knights-vs-cis-at-home-600-pm/
LOCATION:Christian Fellowship School\, 4600 Christian Fellowship Rd\, Columbia\, 65203\, United States
CATEGORIES:Basketball,High School,V Girls Basketball
END:VEVENT
BEGIN:VEVENT
DTSTART;TZID=America/Chicago:20260130T193000
DTEND;TZID=America/Chicago:20260130T213000
DTSTAMP:20260421T162021
CREATED:20251205T152649Z
LAST-MODIFIED:20251205T152649Z
UID:7754-1769801400-1769808600@cfsknights.org
SUMMARY:CFS Varsity Boys Knights vs. CIS at CFS (HOME) 7:30PM — Fri\, Jan 30
DESCRIPTION:
URL:https://cfsknights.org/event/cfs-varsity-boys-knights-vs-cis-at-cfs-home-730pm-fri-jan-30/
LOCATION:Christian Fellowship School\, 4600 Christian Fellowship Rd\, Columbia\, 65203\, United States
CATEGORIES:Basketball,V Boys Basketball
END:VEVENT
BEGIN:VEVENT
DTSTART;TZID=America/Chicago:20260131T130000
DTEND;TZID=America/Chicago:20260131T160000
DTSTAMP:20260421T162021
CREATED:20260123T154324Z
LAST-MODIFIED:20260123T154324Z
UID:8051-1769864400-1769875200@cfsknights.org
SUMMARY:MS Boys Basketball Awards and Game
DESCRIPTION:
URL:https://cfsknights.org/event/ms-boys-basketball-awards-and-game/
CATEGORIES:Basketball,MS Boys Basketball
ORGANIZER;CN="Chris Blake":MAILTO:cblake@cfsknights.org
END:VEVENT
END:VCALENDAR