BEGIN:VCALENDAR
VERSION:2.0
PRODID:-//Christian Fellowship School - Columbia, MO - ECPv6.15.20//NONSGML v1.0//EN
CALSCALE:GREGORIAN
METHOD:PUBLISH
X-ORIGINAL-URL:https://cfsknights.org
X-WR-CALDESC:Events for Christian Fellowship School - Columbia, MO
REFRESH-INTERVAL;VALUE=DURATION:PT1H
X-Robots-Tag:noindex
X-PUBLISHED-TTL:PT1H
BEGIN:VTIMEZONE
TZID:America/Chicago
BEGIN:DAYLIGHT
TZOFFSETFROM:-0600
TZOFFSETTO:-0500
TZNAME:CDT
DTSTART:20250309T080000
END:DAYLIGHT
BEGIN:STANDARD
TZOFFSETFROM:-0500
TZOFFSETTO:-0600
TZNAME:CST
DTSTART:20251102T070000
END:STANDARD
BEGIN:DAYLIGHT
TZOFFSETFROM:-0600
TZOFFSETTO:-0500
TZNAME:CDT
DTSTART:20260308T080000
END:DAYLIGHT
BEGIN:STANDARD
TZOFFSETFROM:-0500
TZOFFSETTO:-0600
TZNAME:CST
DTSTART:20261101T070000
END:STANDARD
BEGIN:DAYLIGHT
TZOFFSETFROM:-0600
TZOFFSETTO:-0500
TZNAME:CDT
DTSTART:20270314T080000
END:DAYLIGHT
BEGIN:STANDARD
TZOFFSETFROM:-0500
TZOFFSETTO:-0600
TZNAME:CST
DTSTART:20271107T070000
END:STANDARD
END:VTIMEZONE
BEGIN:VEVENT
DTSTART;TZID=America/Chicago:20260202T180000
DTEND;TZID=America/Chicago:20260202T180000
DTSTAMP:20260421T175119
CREATED:20251205T203853Z
LAST-MODIFIED:20251205T221211Z
UID:7821-1770055200-1770055200@cfsknights.org
SUMMARY:CFS Varsity Girls Knights vs. Prairie Home at HOME 6:00 PM
DESCRIPTION:
URL:https://cfsknights.org/event/cfs-varsity-girls-knights-vs-prairie-home-at-home-600-pm/
LOCATION:Christian Fellowship School\, 4600 Christian Fellowship Rd\, Columbia\, 65203\, United States
CATEGORIES:Basketball,High School,V Girls Basketball
END:VEVENT
BEGIN:VEVENT
DTSTART;TZID=America/Chicago:20260202T193000
DTEND;TZID=America/Chicago:20260202T213000
DTSTAMP:20260421T175119
CREATED:20251205T152855Z
LAST-MODIFIED:20251205T152855Z
UID:7756-1770060600-1770067800@cfsknights.org
SUMMARY:CFS Varsity Boys Knights vs. Prairie Home at CFS (HOME) 7:30PM — Mon\, Feb 2
DESCRIPTION:
URL:https://cfsknights.org/event/cfs-varsity-boys-knights-vs-prairie-home-at-cfs-home-730pm-mon-feb-2/
LOCATION:Christian Fellowship School\, 4600 Christian Fellowship Rd\, Columbia\, 65203\, United States
CATEGORIES:Basketball,V Boys Basketball
END:VEVENT
BEGIN:VEVENT
DTSTART;TZID=America/Chicago:20260209T180000
DTEND;TZID=America/Chicago:20260209T200000
DTSTAMP:20260421T175119
CREATED:20251205T155621Z
LAST-MODIFIED:20251205T155621Z
UID:7780-1770660000-1770667200@cfsknights.org
SUMMARY:CFS JV Boys Knights vs. South Callaway at CFS (HOME) 6:00PM — Mon\, Feb 9
DESCRIPTION:
URL:https://cfsknights.org/event/cfs-jv-boys-knights-vs-south-callaway-at-cfs-home-600pm-mon-feb-9/
LOCATION:Christian Fellowship School\, 4600 Christian Fellowship Rd\, Columbia\, 65203\, United States
CATEGORIES:Basketball,JV Boys Basketball
END:VEVENT
BEGIN:VEVENT
DTSTART;TZID=America/Chicago:20260212T173000
DTEND;TZID=America/Chicago:20260212T193000
DTSTAMP:20260421T175119
CREATED:20251205T155954Z
LAST-MODIFIED:20251205T155954Z
UID:7782-1770917400-1770924600@cfsknights.org
SUMMARY:CFS JV Boys Knights vs. Van-Far at Vandalia\, MO 5:30PM — Thu\, Feb 12
DESCRIPTION:
URL:https://cfsknights.org/event/cfs-jv-boys-knights-vs-van-far-at-vandalia-mo-530pm-thu-feb-12/
LOCATION:Van-Far\, 2200 US-54\, Vandalia\,\, 63382
CATEGORIES:Basketball,JV Boys Basketball
END:VEVENT
BEGIN:VEVENT
DTSTART;TZID=America/Chicago:20260217T180000
DTEND;TZID=America/Chicago:20260217T200000
DTSTAMP:20260421T175119
CREATED:20251205T210439Z
LAST-MODIFIED:20251205T210439Z
UID:7838-1771351200-1771358400@cfsknights.org
SUMMARY:CFS Varsity Girls Knights vs. Chamois at HOME 6:00 PM
DESCRIPTION:
URL:https://cfsknights.org/event/cfs-varsity-girls-knights-vs-chamois-at-home-600-pm/
LOCATION:Christian Fellowship School\, 4600 Christian Fellowship Rd\, Columbia\, 65203\, United States
CATEGORIES:Basketball,High School,V Girls Basketball
END:VEVENT
BEGIN:VEVENT
DTSTART;TZID=America/Chicago:20260217T193000
DTEND;TZID=America/Chicago:20260217T213000
DTSTAMP:20260421T175119
CREATED:20251205T153627Z
LAST-MODIFIED:20251205T153627Z
UID:7758-1771356600-1771363800@cfsknights.org
SUMMARY:CFS Varsity Boys Knights vs. Chamois at CFS (HOME) 7:30PM — Tue\, Feb 17
DESCRIPTION:
URL:https://cfsknights.org/event/cfs-varsity-boys-knights-vs-chamois-at-cfs-home-730pm-tue-feb-17/
LOCATION:Christian Fellowship School\, 4600 Christian Fellowship Rd\, Columbia\, 65203\, United States
CATEGORIES:Basketball,V Boys Basketball
END:VEVENT
BEGIN:VEVENT
DTSTART;TZID=America/Chicago:20260220T180000
DTEND;TZID=America/Chicago:20260220T200000
DTSTAMP:20260421T175119
CREATED:20251205T210752Z
LAST-MODIFIED:20251205T210752Z
UID:7840-1771610400-1771617600@cfsknights.org
SUMMARY:CFS Varsity Girls Knights vs. Bunceton at HOME 6:00 PM
DESCRIPTION:
URL:https://cfsknights.org/event/cfs-varsity-girls-knights-vs-bunceton-at-home-600-pm/
LOCATION:Christian Fellowship School\, 4600 Christian Fellowship Rd\, Columbia\, 65203\, United States
CATEGORIES:Basketball,High School,V Girls Basketball
END:VEVENT
BEGIN:VEVENT
DTSTART;TZID=America/Chicago:20260220T193000
DTEND;TZID=America/Chicago:20260220T213000
DTSTAMP:20260421T175119
CREATED:20251205T153732Z
LAST-MODIFIED:20251205T153732Z
UID:7760-1771615800-1771623000@cfsknights.org
SUMMARY:CFS Varsity Boys Knights vs. Bunceton at CFS (HOME) 7:30PM — Fri\, Feb 20
DESCRIPTION:
URL:https://cfsknights.org/event/cfs-varsity-boys-knights-vs-bunceton-at-cfs-home-730pm-fri-feb-20/
LOCATION:Christian Fellowship School\, 4600 Christian Fellowship Rd\, Columbia\, 65203\, United States
CATEGORIES:Basketball,V Boys Basketball
END:VEVENT
BEGIN:VEVENT
DTSTART;VALUE=DATE:20260223
DTEND;VALUE=DATE:20260224
DTSTAMP:20260421T175119
CREATED:20251205T211034Z
LAST-MODIFIED:20251205T211034Z
UID:7842-1771804800-1771891199@cfsknights.org
SUMMARY:CFS Varsity Girls Knights Districts TBA
DESCRIPTION:
URL:https://cfsknights.org/event/cfs-varsity-girls-knights-districts-tba/
LOCATION:Christian Fellowship School\, 4600 Christian Fellowship Rd\, Columbia\, 65203\, United States
CATEGORIES:Basketball,High School,V Girls Basketball
END:VEVENT
BEGIN:VEVENT
DTSTART;VALUE=DATE:20260223
DTEND;VALUE=DATE:20260301
DTSTAMP:20260421T175119
CREATED:20251205T153836Z
LAST-MODIFIED:20251205T153836Z
UID:7762-1771804800-1772323199@cfsknights.org
SUMMARY:CFS Varsity Boys Knights — District Tournament TBA — Mon–Sat\, Feb 23–28
DESCRIPTION:
URL:https://cfsknights.org/event/cfs-varsity-boys-knights-district-tournament-tba-mon-sat-feb-23-28/
LOCATION:Christian Fellowship School\, 4600 Christian Fellowship Rd\, Columbia\, 65203\, United States
CATEGORIES:Basketball,V Boys Basketball
END:VEVENT
BEGIN:VEVENT
DTSTART;VALUE=DATE:20260223
DTEND;VALUE=DATE:20260224
DTSTAMP:20260421T175119
CREATED:20251205T211034Z
LAST-MODIFIED:20251205T211034Z
UID:7842-1771804800-1771891199@cfsknights.org
SUMMARY:CFS Varsity Girls Knights Districts TBA
DESCRIPTION:
URL:https://cfsknights.org/event/cfs-varsity-girls-knights-districts-tba/
LOCATION:Christian Fellowship School\, 4600 Christian Fellowship Rd\, Columbia\, 65203\, United States
CATEGORIES:Basketball,High School,V Girls Basketball
END:VEVENT
BEGIN:VEVENT
DTSTART;VALUE=DATE:20260223
DTEND;VALUE=DATE:20260224
DTSTAMP:20260421T175119
CREATED:20251205T211034Z
LAST-MODIFIED:20251205T211034Z
UID:7842-1771804800-1771891199@cfsknights.org
SUMMARY:CFS Varsity Girls Knights Districts TBA
DESCRIPTION:
URL:https://cfsknights.org/event/cfs-varsity-girls-knights-districts-tba/
LOCATION:Christian Fellowship School\, 4600 Christian Fellowship Rd\, Columbia\, 65203\, United States
CATEGORIES:Basketball,High School,V Girls Basketball
END:VEVENT
BEGIN:VEVENT
DTSTART;VALUE=DATE:20260223
DTEND;VALUE=DATE:20260224
DTSTAMP:20260421T175119
CREATED:20251205T211034Z
LAST-MODIFIED:20251205T211034Z
UID:7842-1771804800-1771891199@cfsknights.org
SUMMARY:CFS Varsity Girls Knights Districts TBA
DESCRIPTION:
URL:https://cfsknights.org/event/cfs-varsity-girls-knights-districts-tba/
LOCATION:Christian Fellowship School\, 4600 Christian Fellowship Rd\, Columbia\, 65203\, United States
CATEGORIES:Basketball,High School,V Girls Basketball
END:VEVENT
BEGIN:VEVENT
DTSTART;VALUE=DATE:20260223
DTEND;VALUE=DATE:20260224
DTSTAMP:20260421T175119
CREATED:20251205T211034Z
LAST-MODIFIED:20251205T211034Z
UID:7842-1771804800-1771891199@cfsknights.org
SUMMARY:CFS Varsity Girls Knights Districts TBA
DESCRIPTION:
URL:https://cfsknights.org/event/cfs-varsity-girls-knights-districts-tba/
LOCATION:Christian Fellowship School\, 4600 Christian Fellowship Rd\, Columbia\, 65203\, United States
CATEGORIES:Basketball,High School,V Girls Basketball
END:VEVENT
BEGIN:VEVENT
DTSTART;VALUE=DATE:20260223
DTEND;VALUE=DATE:20260224
DTSTAMP:20260421T175119
CREATED:20251205T211034Z
LAST-MODIFIED:20251205T211034Z
UID:7842-1771804800-1771891199@cfsknights.org
SUMMARY:CFS Varsity Girls Knights Districts TBA
DESCRIPTION:
URL:https://cfsknights.org/event/cfs-varsity-girls-knights-districts-tba/
LOCATION:Christian Fellowship School\, 4600 Christian Fellowship Rd\, Columbia\, 65203\, United States
CATEGORIES:Basketball,High School,V Girls Basketball
END:VEVENT
END:VCALENDAR