BEGIN:VCALENDAR
VERSION:2.0
PRODID:-//Christian Fellowship School - Columbia, MO - ECPv6.15.20//NONSGML v1.0//EN
CALSCALE:GREGORIAN
METHOD:PUBLISH
X-WR-CALNAME:Christian Fellowship School - Columbia, MO
X-ORIGINAL-URL:https://cfsknights.org
X-WR-CALDESC:Events for Christian Fellowship School - Columbia, MO
REFRESH-INTERVAL;VALUE=DURATION:PT1H
X-Robots-Tag:noindex
X-PUBLISHED-TTL:PT1H
BEGIN:VTIMEZONE
TZID:America/Chicago
BEGIN:DAYLIGHT
TZOFFSETFROM:-0600
TZOFFSETTO:-0500
TZNAME:CDT
DTSTART:20240310T080000
END:DAYLIGHT
BEGIN:STANDARD
TZOFFSETFROM:-0500
TZOFFSETTO:-0600
TZNAME:CST
DTSTART:20241103T070000
END:STANDARD
BEGIN:DAYLIGHT
TZOFFSETFROM:-0600
TZOFFSETTO:-0500
TZNAME:CDT
DTSTART:20250309T080000
END:DAYLIGHT
BEGIN:STANDARD
TZOFFSETFROM:-0500
TZOFFSETTO:-0600
TZNAME:CST
DTSTART:20251102T070000
END:STANDARD
BEGIN:DAYLIGHT
TZOFFSETFROM:-0600
TZOFFSETTO:-0500
TZNAME:CDT
DTSTART:20260308T080000
END:DAYLIGHT
BEGIN:STANDARD
TZOFFSETFROM:-0500
TZOFFSETTO:-0600
TZNAME:CST
DTSTART:20261101T070000
END:STANDARD
END:VTIMEZONE
BEGIN:VEVENT
DTSTART;TZID=America/Chicago:20251205T180000
DTEND;TZID=America/Chicago:20251205T190000
DTSTAMP:20260421T143803
CREATED:20251118T200111Z
LAST-MODIFIED:20251118T200111Z
UID:7695-1764957600-1764961200@cfsknights.org
SUMMARY:CFS Knights vs. CIS at Columbia\, MO 6:00PM — Fri\, Dec 5
DESCRIPTION:
URL:https://cfsknights.org/event/cfs-knights-vs-cis-at-columbia-mo-600pm-fri-dec-5/
LOCATION:Columbia Independent School\, 1801 N. Stadium Blvd.\, Columbia\, MO\, 65202\, United States
CATEGORIES:Basketball,MS Girls Basketball
END:VEVENT
BEGIN:VEVENT
DTSTART;TZID=America/Chicago:20251205T190000
DTEND;TZID=America/Chicago:20251205T210000
DTSTAMP:20260421T143803
CREATED:20251118T194305Z
LAST-MODIFIED:20251118T194305Z
UID:7669-1764961200-1764968400@cfsknights.org
SUMMARY:CFS Knights vs. CIS at CIS Columbia\, MO 7:00PM — Fri\, Dec 5
DESCRIPTION:
URL:https://cfsknights.org/event/cfs-knights-vs-cis-at-cis-columbia-mo-700pm-fri-dec-5/
LOCATION:Columbia Independent School\, 1801 N. Stadium Blvd.\, Columbia\, MO\, 65202\, United States
CATEGORIES:Basketball,MS Boys Basketball
END:VEVENT
BEGIN:VEVENT
DTSTART;TZID=America/Chicago:20251205T193000
DTEND;TZID=America/Chicago:20251205T213000
DTSTAMP:20260421T143803
CREATED:20251205T152408Z
LAST-MODIFIED:20251205T152408Z
UID:7750-1764963000-1764970200@cfsknights.org
SUMMARY:CFS Varsity Boys Knights vs. Northern MO Knights at CFS (HOME) 7:30PM — Fri\, Jan 23 (Courtwarming)
DESCRIPTION:
URL:https://cfsknights.org/event/cfs-varsity-boys-knights-vs-northern-mo-knights-at-cfs-home-730pm-fri-jan-23-courtwarming/
LOCATION:Christian Fellowship School\, 4600 Christian Fellowship Rd\, Columbia\, 65203\, United States
CATEGORIES:Basketball,V Boys Basketball
END:VEVENT
END:VCALENDAR