BEGIN:VCALENDAR
VERSION:2.0
PRODID:-//Christian Fellowship School - Columbia, MO - ECPv6.15.20//NONSGML v1.0//EN
CALSCALE:GREGORIAN
METHOD:PUBLISH
X-ORIGINAL-URL:https://cfsknights.org
X-WR-CALDESC:Events for Christian Fellowship School - Columbia, MO
REFRESH-INTERVAL;VALUE=DURATION:PT1H
X-Robots-Tag:noindex
X-PUBLISHED-TTL:PT1H
BEGIN:VTIMEZONE
TZID:America/Chicago
BEGIN:DAYLIGHT
TZOFFSETFROM:-0600
TZOFFSETTO:-0500
TZNAME:CDT
DTSTART:20240310T080000
END:DAYLIGHT
BEGIN:STANDARD
TZOFFSETFROM:-0500
TZOFFSETTO:-0600
TZNAME:CST
DTSTART:20241103T070000
END:STANDARD
BEGIN:DAYLIGHT
TZOFFSETFROM:-0600
TZOFFSETTO:-0500
TZNAME:CDT
DTSTART:20250309T080000
END:DAYLIGHT
BEGIN:STANDARD
TZOFFSETFROM:-0500
TZOFFSETTO:-0600
TZNAME:CST
DTSTART:20251102T070000
END:STANDARD
BEGIN:DAYLIGHT
TZOFFSETFROM:-0600
TZOFFSETTO:-0500
TZNAME:CDT
DTSTART:20260308T080000
END:DAYLIGHT
BEGIN:STANDARD
TZOFFSETFROM:-0500
TZOFFSETTO:-0600
TZNAME:CST
DTSTART:20261101T070000
END:STANDARD
END:VTIMEZONE
BEGIN:VEVENT
DTSTART;TZID=America/Chicago:20251211T170000
DTEND;TZID=America/Chicago:20251211T190000
DTSTAMP:20260421T163044
CREATED:20251205T154305Z
LAST-MODIFIED:20251205T154305Z
UID:7764-1765472400-1765479600@cfsknights.org
SUMMARY:CFS JV Boys Knights vs. Calvary Lutheran at CFS (HOME) 5:00PM — Thu\, Dec 11
DESCRIPTION:
URL:https://cfsknights.org/event/cfs-jv-boys-knights-vs-calvary-lutheran-at-cfs-home-500pm-thu-dec-11/
LOCATION:Christian Fellowship School\, 4600 Christian Fellowship Rd\, Columbia\, 65203\, United States
CATEGORIES:Basketball,JV Boys Basketball
END:VEVENT
BEGIN:VEVENT
DTSTART;TZID=America/Chicago:20251211T181500
DTEND;TZID=America/Chicago:20251211T211500
DTSTAMP:20260421T163044
CREATED:20251205T195619Z
LAST-MODIFIED:20251205T195619Z
UID:7800-1765476900-1765487700@cfsknights.org
SUMMARY:CFS Varsity Girls Knights vs. Calvary Lutheran at HOME 6:15 PM
DESCRIPTION:
URL:https://cfsknights.org/event/cfs-varsity-girls-knights-vs-calvary-lutheran-at-home-615-pm/
LOCATION:Christian Fellowship School\, 4600 Christian Fellowship Rd\, Columbia\, 65203\, United States
CATEGORIES:Basketball,High School
END:VEVENT
END:VCALENDAR