BEGIN:VCALENDAR
VERSION:2.0
PRODID:-//Christian Fellowship School - Columbia, MO - ECPv6.15.20//NONSGML v1.0//EN
CALSCALE:GREGORIAN
METHOD:PUBLISH
X-ORIGINAL-URL:https://cfsknights.org
X-WR-CALDESC:Events for Christian Fellowship School - Columbia, MO
REFRESH-INTERVAL;VALUE=DURATION:PT1H
X-Robots-Tag:noindex
X-PUBLISHED-TTL:PT1H
BEGIN:VTIMEZONE
TZID:America/Chicago
BEGIN:DAYLIGHT
TZOFFSETFROM:-0600
TZOFFSETTO:-0500
TZNAME:CDT
DTSTART:20250309T080000
END:DAYLIGHT
BEGIN:STANDARD
TZOFFSETFROM:-0500
TZOFFSETTO:-0600
TZNAME:CST
DTSTART:20251102T070000
END:STANDARD
BEGIN:DAYLIGHT
TZOFFSETFROM:-0600
TZOFFSETTO:-0500
TZNAME:CDT
DTSTART:20260308T080000
END:DAYLIGHT
BEGIN:STANDARD
TZOFFSETFROM:-0500
TZOFFSETTO:-0600
TZNAME:CST
DTSTART:20261101T070000
END:STANDARD
BEGIN:DAYLIGHT
TZOFFSETFROM:-0600
TZOFFSETTO:-0500
TZNAME:CDT
DTSTART:20270314T080000
END:DAYLIGHT
BEGIN:STANDARD
TZOFFSETFROM:-0500
TZOFFSETTO:-0600
TZNAME:CST
DTSTART:20271107T070000
END:STANDARD
END:VTIMEZONE
BEGIN:VEVENT
DTSTART;VALUE=DATE:20260105
DTEND;VALUE=DATE:20260111
DTSTAMP:20260421T175253
CREATED:20251118T204643Z
LAST-MODIFIED:20251118T204643Z
UID:7733-1767571200-1768089599@cfsknights.org
SUMMARY:CFS Varsity Boys Knights at New Franklin Tournament — TBA — Mon–Sat\, Jan 5–10
DESCRIPTION:
URL:https://cfsknights.org/event/cfs-varsity-boys-knights-at-new-franklin-tournament-tba-mon-sat-jan-5-10/
LOCATION:New Franklin\, 412 W Broadway\,\, New Franklin\, MO\, 65274
CATEGORIES:Basketball,V Boys Basketball
END:VEVENT
BEGIN:VEVENT
DTSTART;VALUE=DATE:20260105
DTEND;VALUE=DATE:20260106
DTSTAMP:20260421T175253
CREATED:20251205T200204Z
LAST-MODIFIED:20251205T224303Z
UID:7806-1767571200-1767657599@cfsknights.org
SUMMARY:CFS Varsity Girls Knights New Franklin Tournament
DESCRIPTION:
URL:https://cfsknights.org/event/cfs-varsity-girls-knights-new-franklin-tournament/
LOCATION:New Franklin\, 412 W Broadway\,\, New Franklin\, MO\, 65274
CATEGORIES:Basketball,High School,V Girls Basketball
END:VEVENT
BEGIN:VEVENT
DTSTART;TZID=America/Chicago:20260108T180000
DTEND;TZID=America/Chicago:20260108T190000
DTSTAMP:20260421T175253
CREATED:20251118T201025Z
LAST-MODIFIED:20251118T201025Z
UID:7707-1767895200-1767898800@cfsknights.org
SUMMARY:CFS Knights vs. OLLIS at Columbia\, MO 6:00PM — Thu\, Jan 8
DESCRIPTION:
URL:https://cfsknights.org/event/cfs-knights-vs-ollis-at-columbia-mo-600pm-thu-jan-8/
LOCATION:Our Lady of Lourdes Interparish School (OLLIS)\, 817 Bernadette Dr.\, Columbia\, MO\, 65203\, United States
CATEGORIES:Basketball,MS Girls Basketball
END:VEVENT
BEGIN:VEVENT
DTSTART;TZID=America/Chicago:20260108T190000
DTEND;TZID=America/Chicago:20260108T210000
DTSTAMP:20260421T175253
CREATED:20251118T194937Z
LAST-MODIFIED:20251118T194937Z
UID:7682-1767898800-1767906000@cfsknights.org
SUMMARY:CFS Knights vs. OLLIS at Columbia\, MO 7:00PM — Thu\, Jan 8
DESCRIPTION:
URL:https://cfsknights.org/event/cfs-knights-vs-ollis-at-columbia-mo-700pm-thu-jan-8/
LOCATION:Our Lady of Lourdes Interparish School (OLLIS)\, 817 Bernadette Dr.\, Columbia\, MO\, 65203\, United States
CATEGORIES:Basketball,MS Boys Basketball
END:VEVENT
END:VCALENDAR