BEGIN:VCALENDAR
VERSION:2.0
PRODID:-//Christian Fellowship School - Columbia, MO - ECPv6.15.20//NONSGML v1.0//EN
CALSCALE:GREGORIAN
METHOD:PUBLISH
X-ORIGINAL-URL:https://cfsknights.org
X-WR-CALDESC:Events for Christian Fellowship School - Columbia, MO
REFRESH-INTERVAL;VALUE=DURATION:PT1H
X-Robots-Tag:noindex
X-PUBLISHED-TTL:PT1H
BEGIN:VTIMEZONE
TZID:America/Chicago
BEGIN:DAYLIGHT
TZOFFSETFROM:-0600
TZOFFSETTO:-0500
TZNAME:CDT
DTSTART:20250309T080000
END:DAYLIGHT
BEGIN:STANDARD
TZOFFSETFROM:-0500
TZOFFSETTO:-0600
TZNAME:CST
DTSTART:20251102T070000
END:STANDARD
BEGIN:DAYLIGHT
TZOFFSETFROM:-0600
TZOFFSETTO:-0500
TZNAME:CDT
DTSTART:20260308T080000
END:DAYLIGHT
BEGIN:STANDARD
TZOFFSETFROM:-0500
TZOFFSETTO:-0600
TZNAME:CST
DTSTART:20261101T070000
END:STANDARD
BEGIN:DAYLIGHT
TZOFFSETFROM:-0600
TZOFFSETTO:-0500
TZNAME:CDT
DTSTART:20270314T080000
END:DAYLIGHT
BEGIN:STANDARD
TZOFFSETFROM:-0500
TZOFFSETTO:-0600
TZNAME:CST
DTSTART:20271107T070000
END:STANDARD
END:VTIMEZONE
BEGIN:VEVENT
DTSTART;TZID=America/Chicago:20260120T170000
DTEND;TZID=America/Chicago:20260120T190000
DTSTAMP:20260421T175308
CREATED:20251205T155408Z
LAST-MODIFIED:20251205T155408Z
UID:7776-1768928400-1768935600@cfsknights.org
SUMMARY:CFS JV Boys Knights vs. Sturgeon at Sturgeon\, MO 5:00PM — Tue\, Jan 20
DESCRIPTION:
URL:https://cfsknights.org/event/cfs-jv-boys-knights-vs-sturgeon-at-sturgeon-mo-500pm-tue-jan-20/
LOCATION:Sturgeon R-V High School\, 210 West Patton Street\, Sturgeon\, Missouri\, 65284
CATEGORIES:Basketball,JV Boys Basketball
END:VEVENT
BEGIN:VEVENT
DTSTART;TZID=America/Chicago:20260120T180000
DTEND;TZID=America/Chicago:20260120T190000
DTSTAMP:20260421T175308
CREATED:20251118T201137Z
LAST-MODIFIED:20251210T182714Z
UID:7709-1768932000-1768935600@cfsknights.org
SUMMARY:Canceled - CFS Knights vs. Trinity Lutheran at CFS (HOME) 6:00PM — Tue\, Jan 20
DESCRIPTION:
URL:https://cfsknights.org/event/cfs-knights-vs-trinity-lutheran-at-cfs-home-600pm-tue-jan-20/
LOCATION:Christian Fellowship School\, 4600 Christian Fellowship Rd\, Columbia\, 65203\, United States
CATEGORIES:Basketball,MS Girls Basketball
END:VEVENT
BEGIN:VEVENT
DTSTART;TZID=America/Chicago:20260120T181500
DTEND;TZID=America/Chicago:20260120T201500
DTSTAMP:20260421T175308
CREATED:20251205T201321Z
LAST-MODIFIED:20251205T201321Z
UID:7813-1768932900-1768940100@cfsknights.org
SUMMARY:CFS Varsity Girls Knights vs. Sturgeon at Sturgeon\, MO  6:15 PM
DESCRIPTION:
URL:https://cfsknights.org/event/cfs-varsity-girls-knights-vs-sturgeon-at-sturgeon-mo-615-pm/
LOCATION:Sturgeon R-V High School\, 210 West Patton Street\, Sturgeon\, Missouri\, 65284
CATEGORIES:Basketball,High School,V Girls Basketball
END:VEVENT
BEGIN:VEVENT
DTSTART;TZID=America/Chicago:20260120T190000
DTEND;TZID=America/Chicago:20260120T210000
DTSTAMP:20260421T175308
CREATED:20251118T195212Z
LAST-MODIFIED:20251118T195212Z
UID:7686-1768935600-1768942800@cfsknights.org
SUMMARY:CFS Knights vs. Trinity Lutheran at CFS (HOME) 7:00PM — Tue\, Jan 20
DESCRIPTION:
URL:https://cfsknights.org/event/cfs-knights-vs-trinity-lutheran-at-cfs-home-700pm-tue-jan-20/
LOCATION:Christian Fellowship School\, 4600 Christian Fellowship Rd\, Columbia\, 65203\, United States
CATEGORIES:Basketball,MS Boys Basketball
END:VEVENT
BEGIN:VEVENT
DTSTART;TZID=America/Chicago:20260120T194500
DTEND;TZID=America/Chicago:20260120T204500
DTSTAMP:20260421T175308
CREATED:20251205T152241Z
LAST-MODIFIED:20251205T152241Z
UID:7748-1768938300-1768941900@cfsknights.org
SUMMARY:CFS Varsity Boys Knights vs. Sturgeon at Sturgeon\, MO 7:45PM — Tue\, Jan 20
DESCRIPTION:
URL:https://cfsknights.org/event/cfs-varsity-boys-knights-vs-sturgeon-at-sturgeon-mo-745pm-tue-jan-20/
LOCATION:Sturgeon R-V High School\, 210 West Patton Street\, Sturgeon\, Missouri\, 65284
CATEGORIES:Basketball,V Boys Basketball
END:VEVENT
END:VCALENDAR