BEGIN:VCALENDAR
VERSION:2.0
PRODID:-//Christian Fellowship School - Columbia, MO - ECPv6.15.20//NONSGML v1.0//EN
CALSCALE:GREGORIAN
METHOD:PUBLISH
X-ORIGINAL-URL:https://cfsknights.org
X-WR-CALDESC:Events for Christian Fellowship School - Columbia, MO
REFRESH-INTERVAL;VALUE=DURATION:PT1H
X-Robots-Tag:noindex
X-PUBLISHED-TTL:PT1H
BEGIN:VTIMEZONE
TZID:America/Chicago
BEGIN:DAYLIGHT
TZOFFSETFROM:-0600
TZOFFSETTO:-0500
TZNAME:CDT
DTSTART:20250309T080000
END:DAYLIGHT
BEGIN:STANDARD
TZOFFSETFROM:-0500
TZOFFSETTO:-0600
TZNAME:CST
DTSTART:20251102T070000
END:STANDARD
BEGIN:DAYLIGHT
TZOFFSETFROM:-0600
TZOFFSETTO:-0500
TZNAME:CDT
DTSTART:20260308T080000
END:DAYLIGHT
BEGIN:STANDARD
TZOFFSETFROM:-0500
TZOFFSETTO:-0600
TZNAME:CST
DTSTART:20261101T070000
END:STANDARD
BEGIN:DAYLIGHT
TZOFFSETFROM:-0600
TZOFFSETTO:-0500
TZNAME:CDT
DTSTART:20270314T080000
END:DAYLIGHT
BEGIN:STANDARD
TZOFFSETFROM:-0500
TZOFFSETTO:-0600
TZNAME:CST
DTSTART:20271107T070000
END:STANDARD
END:VTIMEZONE
BEGIN:VEVENT
DTSTART;TZID=America/Chicago:20260129T170000
DTEND;TZID=America/Chicago:20260129T190000
DTSTAMP:20260421T175252
CREATED:20251205T155537Z
LAST-MODIFIED:20251205T155537Z
UID:7778-1769706000-1769713200@cfsknights.org
SUMMARY:CFS JV Boys Knights vs. Sunnydale at CFS (HOME) 5:00PM — Thu\, Jan 29
DESCRIPTION:
URL:https://cfsknights.org/event/cfs-jv-boys-knights-vs-sunnydale-at-cfs-home-500pm-thu-jan-29/
LOCATION:Christian Fellowship School\, 4600 Christian Fellowship Rd\, Columbia\, 65203\, United States
CATEGORIES:Basketball,JV Boys Basketball
END:VEVENT
BEGIN:VEVENT
DTSTART;TZID=America/Chicago:20260129T181500
DTEND;TZID=America/Chicago:20260129T201500
DTSTAMP:20260421T175252
CREATED:20251205T201715Z
LAST-MODIFIED:20251205T201715Z
UID:7817-1769710500-1769717700@cfsknights.org
SUMMARY:CFS Varsity Girls Knights vs. Sunnydale at HOME 6:15 PM
DESCRIPTION:
URL:https://cfsknights.org/event/cfs-varsity-girls-knights-vs-sunnydale-at-home-615-pm/
LOCATION:Christian Fellowship School\, 4600 Christian Fellowship Rd\, Columbia\, 65203\, United States
CATEGORIES:Basketball,High School,V Girls Basketball
END:VEVENT
BEGIN:VEVENT
DTSTART;TZID=America/Chicago:20260129T194500
DTEND;TZID=America/Chicago:20260129T214500
DTSTAMP:20260421T175252
CREATED:20251205T152522Z
LAST-MODIFIED:20251205T152522Z
UID:7752-1769715900-1769723100@cfsknights.org
SUMMARY:CFS Varsity Boys Knights vs. Sunnydale at CFS (HOME) 7:45PM — Thu\, Jan 29
DESCRIPTION:
URL:https://cfsknights.org/event/cfs-varsity-boys-knights-vs-sunnydale-at-cfs-home-745pm-thu-jan-29/
LOCATION:Christian Fellowship School\, 4600 Christian Fellowship Rd\, Columbia\, 65203\, United States
CATEGORIES:Basketball,V Boys Basketball
END:VEVENT
END:VCALENDAR