BEGIN:VCALENDAR
VERSION:2.0
PRODID:-//Christian Fellowship School - Columbia, MO - ECPv6.15.20//NONSGML v1.0//EN
CALSCALE:GREGORIAN
METHOD:PUBLISH
X-WR-CALNAME:Christian Fellowship School - Columbia, MO
X-ORIGINAL-URL:https://cfsknights.org
X-WR-CALDESC:Events for Christian Fellowship School - Columbia, MO
REFRESH-INTERVAL;VALUE=DURATION:PT1H
X-Robots-Tag:noindex
X-PUBLISHED-TTL:PT1H
BEGIN:VTIMEZONE
TZID:America/Chicago
BEGIN:DAYLIGHT
TZOFFSETFROM:-0600
TZOFFSETTO:-0500
TZNAME:CDT
DTSTART:20240310T080000
END:DAYLIGHT
BEGIN:STANDARD
TZOFFSETFROM:-0500
TZOFFSETTO:-0600
TZNAME:CST
DTSTART:20241103T070000
END:STANDARD
BEGIN:DAYLIGHT
TZOFFSETFROM:-0600
TZOFFSETTO:-0500
TZNAME:CDT
DTSTART:20250309T080000
END:DAYLIGHT
BEGIN:STANDARD
TZOFFSETFROM:-0500
TZOFFSETTO:-0600
TZNAME:CST
DTSTART:20251102T070000
END:STANDARD
BEGIN:DAYLIGHT
TZOFFSETFROM:-0600
TZOFFSETTO:-0500
TZNAME:CDT
DTSTART:20260308T080000
END:DAYLIGHT
BEGIN:STANDARD
TZOFFSETFROM:-0500
TZOFFSETTO:-0600
TZNAME:CST
DTSTART:20261101T070000
END:STANDARD
END:VTIMEZONE
BEGIN:VEVENT
DTSTART;VALUE=DATE:20250404
DTEND;VALUE=DATE:20250405
DTSTAMP:20260419T144641
CREATED:20250317T204122Z
LAST-MODIFIED:20250317T204122Z
UID:6754-1743724800-1743811199@cfsknights.org
SUMMARY:MS Track Meet @ Southern Boone
DESCRIPTION:
URL:https://cfsknights.org/event/ms-track-meet-southern-boone/
LOCATION:Southern Boone High School\, 14520 S. Crump Ln.\, Ashland\, Missouri\, 65010
CATEGORIES:MS Track and Field
END:VEVENT
BEGIN:VEVENT
DTSTART;VALUE=DATE:20250409
DTEND;VALUE=DATE:20250410
DTSTAMP:20260419T144641
CREATED:20250317T204217Z
LAST-MODIFIED:20250317T204217Z
UID:6756-1744156800-1744243199@cfsknights.org
SUMMARY:MS Track Meet @ Hallsville
DESCRIPTION:
URL:https://cfsknights.org/event/ms-track-meet-hallsville/
LOCATION:Hallsville High School
CATEGORIES:MS Track and Field
END:VEVENT
BEGIN:VEVENT
DTSTART;VALUE=DATE:20250414
DTEND;VALUE=DATE:20250415
DTSTAMP:20260419T144641
CREATED:20250317T204308Z
LAST-MODIFIED:20250317T204308Z
UID:6758-1744588800-1744675199@cfsknights.org
SUMMARY:MS Track Meet @ Fulton
DESCRIPTION:
URL:https://cfsknights.org/event/ms-track-meet-fulton/
LOCATION:Fulton High School
CATEGORIES:MS Track and Field
END:VEVENT
BEGIN:VEVENT
DTSTART;VALUE=DATE:20250422
DTEND;VALUE=DATE:20250423
DTSTAMP:20260419T144641
CREATED:20250317T204412Z
LAST-MODIFIED:20250317T204412Z
UID:6760-1745280000-1745366399@cfsknights.org
SUMMARY:MS Track Meet @ Centralia - Boone County Relays
DESCRIPTION:
URL:https://cfsknights.org/event/ms-track-meet-centralia-boone-county-relays/
LOCATION:Centralia High School
CATEGORIES:MS Track and Field
END:VEVENT
BEGIN:VEVENT
DTSTART;VALUE=DATE:20250430
DTEND;VALUE=DATE:20250501
DTSTAMP:20260419T144641
CREATED:20250317T204553Z
LAST-MODIFIED:20250317T204553Z
UID:6762-1745971200-1746057599@cfsknights.org
SUMMARY:7th Grade Track Meet @ Jefferson City - Lewis & Clark 7th Grade Meet
DESCRIPTION:
URL:https://cfsknights.org/event/7th-grade-track-meet-jefferson-city-lewis-clark-7th-grade-meet/
LOCATION:Jefferson City High School
CATEGORIES:MS Track and Field
END:VEVENT
END:VCALENDAR