BEGIN:VCALENDAR
VERSION:2.0
PRODID:-//Christian Fellowship School - Columbia, MO - ECPv6.15.20//NONSGML v1.0//EN
CALSCALE:GREGORIAN
METHOD:PUBLISH
X-ORIGINAL-URL:https://cfsknights.org
X-WR-CALDESC:Events for Christian Fellowship School - Columbia, MO
REFRESH-INTERVAL;VALUE=DURATION:PT1H
X-Robots-Tag:noindex
X-PUBLISHED-TTL:PT1H
BEGIN:VTIMEZONE
TZID:America/Chicago
BEGIN:DAYLIGHT
TZOFFSETFROM:-0600
TZOFFSETTO:-0500
TZNAME:CDT
DTSTART:20240310T080000
END:DAYLIGHT
BEGIN:STANDARD
TZOFFSETFROM:-0500
TZOFFSETTO:-0600
TZNAME:CST
DTSTART:20241103T070000
END:STANDARD
BEGIN:DAYLIGHT
TZOFFSETFROM:-0600
TZOFFSETTO:-0500
TZNAME:CDT
DTSTART:20250309T080000
END:DAYLIGHT
BEGIN:STANDARD
TZOFFSETFROM:-0500
TZOFFSETTO:-0600
TZNAME:CST
DTSTART:20251102T070000
END:STANDARD
BEGIN:DAYLIGHT
TZOFFSETFROM:-0600
TZOFFSETTO:-0500
TZNAME:CDT
DTSTART:20260308T080000
END:DAYLIGHT
BEGIN:STANDARD
TZOFFSETFROM:-0500
TZOFFSETTO:-0600
TZNAME:CST
DTSTART:20261101T070000
END:STANDARD
END:VTIMEZONE
BEGIN:VEVENT
DTSTART;VALUE=DATE:20250501
DTEND;VALUE=DATE:20250502
DTSTAMP:20260419T131241
CREATED:20250317T204739Z
LAST-MODIFIED:20250317T204739Z
UID:6764-1746057600-1746143999@cfsknights.org
SUMMARY:8th Grade Track Meet @ Jefferson City - Lewis & Cark 8th Grade Meet
DESCRIPTION:
URL:https://cfsknights.org/event/8th-grade-track-meet-jefferson-city-lewis-cark-8th-grade-meet/
LOCATION:Jefferson City High School
CATEGORIES:MS Track and Field
END:VEVENT
BEGIN:VEVENT
DTSTART;VALUE=DATE:20250509
DTEND;VALUE=DATE:20250510
DTSTAMP:20260419T131241
CREATED:20250317T203806Z
LAST-MODIFIED:20250317T203806Z
UID:6750-1746748800-1746835199@cfsknights.org
SUMMARY:MCSAA State Track Meet
DESCRIPTION:
URL:https://cfsknights.org/event/mcsaa-state-track-meet/
LOCATION:Joplin High School
CATEGORIES:HS Track and Field,MS Track and Field
END:VEVENT
BEGIN:VEVENT
DTSTART;VALUE=DATE:20250510
DTEND;VALUE=DATE:20250511
DTSTAMP:20260419T131241
CREATED:20250317T203850Z
LAST-MODIFIED:20250317T203850Z
UID:6752-1746835200-1746921599@cfsknights.org
SUMMARY:MCSAA State Track Meet
DESCRIPTION:
URL:https://cfsknights.org/event/mcsaa-state-track-meet-2/
LOCATION:Joplin High School
CATEGORIES:HS Track and Field,MS Track and Field
END:VEVENT
BEGIN:VEVENT
DTSTART;VALUE=DATE:20250513
DTEND;VALUE=DATE:20250514
DTSTAMP:20260419T131241
CREATED:20250317T204849Z
LAST-MODIFIED:20250317T204849Z
UID:6766-1747094400-1747180799@cfsknights.org
SUMMARY:MS Track Meet @ COMO Relays - Rock Bridge
DESCRIPTION:
URL:https://cfsknights.org/event/ms-track-meet-como-relays-rock-bridge/
LOCATION:Rock Bridge High School
CATEGORIES:MS Track and Field
END:VEVENT
END:VCALENDAR